BEGIN:VCALENDAR
VERSION:2.0
PRODID:Events Booking
BEGIN:VEVENT
UID:69e5e64de6b40
SUMMARY:18-Hour NYS CCW Course (Mariners Cove\, Oceanside\, NY )
DESCRIPTION:Complete the official NYS 18-Hour Concealed Carry Course at C&a
 mp\;G Solutions in Mariners Cove\, Oceanside\, NY . This state-required pr
 ogram covers handgun safety\, New York firearm laws\, conflict de-escalati
 on\, situational awareness\, and live-fire range training. Taught by certi
 fied instructors with law enforcement and firearms expertise\, this course
  fulfills all requirements for your NYC and NYS pistol permit application.
LOCATION:3615 Oceanside Road\, Oceanside\, 11572 New York\, United States
DTSTART:20260328T130000Z
DTEND:20260329T220000Z
DTSTAMP:20251125T172314Z
ORGANIZER;CN=C&G Solutions:MAILTO:info@cgsolutionsusa.com
GEO:40.623622;-73.632215
X-APPLE-STRUCTURED-LOCATION;VALUE=URI;X-ADDRESS=3615 Oceanside Road\, Ocean
 side\, 11572 New York\, United States;X-APPLE-RADIUS=72;X-TITLE=Mariners C
 ove:40.623622;-73.632215
END:VEVENT
END:VCALENDAR